BEGIN:VCALENDAR
VERSION:2.0
PRODID:-//Moultrie Montessori School | Where Children Grow - ECPv6.15.17.1//NONSGML v1.0//EN
CALSCALE:GREGORIAN
METHOD:PUBLISH
X-ORIGINAL-URL:https://www.moultriemontessori.com
X-WR-CALDESC:Events for Moultrie Montessori School | Where Children Grow
REFRESH-INTERVAL;VALUE=DURATION:PT1H
X-Robots-Tag:noindex
X-PUBLISHED-TTL:PT1H
BEGIN:VTIMEZONE
TZID:UTC
BEGIN:STANDARD
TZOFFSETFROM:+0000
TZOFFSETTO:+0000
TZNAME:UTC
DTSTART:20230101T000000
END:STANDARD
END:VTIMEZONE
BEGIN:VEVENT
DTSTART;VALUE=DATE:20240216
DTEND;VALUE=DATE:20240217
DTSTAMP:20260422T023553
CREATED:20230710T211337Z
LAST-MODIFIED:20230710T211337Z
UID:760-1708041600-1708127999@www.moultriemontessori.com
SUMMARY:Early Release
DESCRIPTION:
URL:https://www.moultriemontessori.com/event/early-release-30/
END:VEVENT
BEGIN:VEVENT
DTSTART;VALUE=DATE:20240219
DTEND;VALUE=DATE:20240220
DTSTAMP:20260422T023553
CREATED:20230710T211410Z
LAST-MODIFIED:20230710T211410Z
UID:762-1708300800-1708387199@www.moultriemontessori.com
SUMMARY:President's Day - NO SCHOOL
DESCRIPTION:
URL:https://www.moultriemontessori.com/event/presidents-day-no-school/
END:VEVENT
END:VCALENDAR