BEGIN:VCALENDAR
VERSION:2.0
PRODID:-//Moultrie Montessori School | Where Children Grow - ECPv6.15.17.1//NONSGML v1.0//EN
CALSCALE:GREGORIAN
METHOD:PUBLISH
X-ORIGINAL-URL:https://www.moultriemontessori.com
X-WR-CALDESC:Events for Moultrie Montessori School | Where Children Grow
REFRESH-INTERVAL;VALUE=DURATION:PT1H
X-Robots-Tag:noindex
X-PUBLISHED-TTL:PT1H
BEGIN:VTIMEZONE
TZID:UTC
BEGIN:STANDARD
TZOFFSETFROM:+0000
TZOFFSETTO:+0000
TZNAME:UTC
DTSTART:20220101T000000
END:STANDARD
END:VTIMEZONE
BEGIN:VEVENT
DTSTART;VALUE=DATE:20231222
DTEND;VALUE=DATE:20240104
DTSTAMP:20260422T011141
CREATED:20230710T211017Z
LAST-MODIFIED:20230710T211017Z
UID:748-1703203200-1704326399@www.moultriemontessori.com
SUMMARY:Winter Break
DESCRIPTION:
URL:https://www.moultriemontessori.com/event/winter-break/
END:VEVENT
BEGIN:VEVENT
DTSTART;VALUE=DATE:20240104
DTEND;VALUE=DATE:20240105
DTSTAMP:20260422T011141
CREATED:20230710T211055Z
LAST-MODIFIED:20230710T212656Z
UID:750-1704326400-1704412799@www.moultriemontessori.com
SUMMARY:Teacher Work Day
DESCRIPTION:
URL:https://www.moultriemontessori.com/event/teacher-work-day-5/
END:VEVENT
BEGIN:VEVENT
DTSTART;VALUE=DATE:20240105
DTEND;VALUE=DATE:20240106
DTSTAMP:20260422T011141
CREATED:20230710T211130Z
LAST-MODIFIED:20230710T211130Z
UID:752-1704412800-1704499199@www.moultriemontessori.com
SUMMARY:Teacher In-Service
DESCRIPTION:
URL:https://www.moultriemontessori.com/event/teacher-in-service/
END:VEVENT
BEGIN:VEVENT
DTSTART;VALUE=DATE:20240108
DTEND;VALUE=DATE:20240109
DTSTAMP:20260422T011141
CREATED:20230710T211158Z
LAST-MODIFIED:20230710T211158Z
UID:754-1704672000-1704758399@www.moultriemontessori.com
SUMMARY:Classes Resume
DESCRIPTION:
URL:https://www.moultriemontessori.com/event/classes-resume-6/
END:VEVENT
BEGIN:VEVENT
DTSTART;VALUE=DATE:20240112
DTEND;VALUE=DATE:20240113
DTSTAMP:20260422T011141
CREATED:20230710T211225Z
LAST-MODIFIED:20230710T211225Z
UID:756-1705017600-1705103999@www.moultriemontessori.com
SUMMARY:Early Release
DESCRIPTION:
URL:https://www.moultriemontessori.com/event/early-release-29/
END:VEVENT
BEGIN:VEVENT
DTSTART;VALUE=DATE:20240115
DTEND;VALUE=DATE:20240116
DTSTAMP:20260422T011141
CREATED:20230710T211309Z
LAST-MODIFIED:20230710T211309Z
UID:758-1705276800-1705363199@www.moultriemontessori.com
SUMMARY:Dr. Martin Luther King\, Jr. Day - NO SCHOOL
DESCRIPTION:
URL:https://www.moultriemontessori.com/event/dr-martin-luther-king-jr-day-no-school/
END:VEVENT
END:VCALENDAR