BEGIN:VCALENDAR
VERSION:2.0
PRODID:-//Moultrie Montessori School | Where Children Grow - ECPv6.15.17.1//NONSGML v1.0//EN
CALSCALE:GREGORIAN
METHOD:PUBLISH
X-WR-CALNAME:Moultrie Montessori School | Where Children Grow
X-ORIGINAL-URL:https://www.moultriemontessori.com
X-WR-CALDESC:Events for Moultrie Montessori School | Where Children Grow
REFRESH-INTERVAL;VALUE=DURATION:PT1H
X-Robots-Tag:noindex
X-PUBLISHED-TTL:PT1H
BEGIN:VTIMEZONE
TZID:UTC
BEGIN:STANDARD
TZOFFSETFROM:+0000
TZOFFSETTO:+0000
TZNAME:UTC
DTSTART:20220101T000000
END:STANDARD
END:VTIMEZONE
BEGIN:VEVENT
DTSTART;VALUE=DATE:20230526
DTEND;VALUE=DATE:20230527
DTSTAMP:20260421T130353
CREATED:20230202T162624Z
LAST-MODIFIED:20230202T162624Z
UID:651-1685059200-1685145599@www.moultriemontessori.com
SUMMARY:Early Release
DESCRIPTION:11:45 Elementary and Toddler\n12:00 Primary
URL:https://www.moultriemontessori.com/event/early-release-24/
END:VEVENT
BEGIN:VEVENT
DTSTART;VALUE=DATE:20230530
DTEND;VALUE=DATE:20230531
DTSTAMP:20260421T130353
CREATED:20230202T162712Z
LAST-MODIFIED:20230202T162712Z
UID:653-1685404800-1685491199@www.moultriemontessori.com
SUMMARY:Early Release / Last Day for students
DESCRIPTION:11:45 Elementary and Toddler\n12:00 Primary
URL:https://www.moultriemontessori.com/event/early-release-last-day-for-students-2/
END:VEVENT
END:VCALENDAR