BEGIN:VCALENDAR
VERSION:2.0
PRODID:-//Moultrie Montessori School | Where Children Grow - ECPv6.15.17.1//NONSGML v1.0//EN
CALSCALE:GREGORIAN
METHOD:PUBLISH
X-WR-CALNAME:Moultrie Montessori School | Where Children Grow
X-ORIGINAL-URL:https://www.moultriemontessori.com
X-WR-CALDESC:Events for Moultrie Montessori School | Where Children Grow
REFRESH-INTERVAL;VALUE=DURATION:PT1H
X-Robots-Tag:noindex
X-PUBLISHED-TTL:PT1H
BEGIN:VTIMEZONE
TZID:UTC
BEGIN:STANDARD
TZOFFSETFROM:+0000
TZOFFSETTO:+0000
TZNAME:UTC
DTSTART:20220101T000000
END:STANDARD
END:VTIMEZONE
BEGIN:VEVENT
DTSTART;VALUE=DATE:20230216
DTEND;VALUE=DATE:20230217
DTSTAMP:20260421T120815
CREATED:20230202T161732Z
LAST-MODIFIED:20230202T161732Z
UID:631-1676505600-1676591999@www.moultriemontessori.com
SUMMARY:Early Release
DESCRIPTION:11:45 Elementary and Toddler\n12:00 Primary
URL:https://www.moultriemontessori.com/event/early-release-14/
END:VEVENT
BEGIN:VEVENT
DTSTART;VALUE=DATE:20230217
DTEND;VALUE=DATE:20230218
DTSTAMP:20260421T120815
CREATED:20230202T161848Z
LAST-MODIFIED:20230202T161848Z
UID:633-1676592000-1676678399@www.moultriemontessori.com
SUMMARY:No School
DESCRIPTION:
URL:https://www.moultriemontessori.com/event/no-school-7/
END:VEVENT
BEGIN:VEVENT
DTSTART;VALUE=DATE:20230220
DTEND;VALUE=DATE:20230221
DTSTAMP:20260421T120815
CREATED:20230202T161931Z
LAST-MODIFIED:20230202T161931Z
UID:635-1676851200-1676937599@www.moultriemontessori.com
SUMMARY:No School / Presidents Day
DESCRIPTION:
URL:https://www.moultriemontessori.com/event/no-school-presidents-day-2/
END:VEVENT
END:VCALENDAR