BEGIN:VCALENDAR
VERSION:2.0
PRODID:-//Moultrie Montessori School | Where Children Grow - ECPv6.15.17.1//NONSGML v1.0//EN
CALSCALE:GREGORIAN
METHOD:PUBLISH
X-ORIGINAL-URL:https://www.moultriemontessori.com
X-WR-CALDESC:Events for Moultrie Montessori School | Where Children Grow
REFRESH-INTERVAL;VALUE=DURATION:PT1H
X-Robots-Tag:noindex
X-PUBLISHED-TTL:PT1H
BEGIN:VTIMEZONE
TZID:UTC
BEGIN:STANDARD
TZOFFSETFROM:+0000
TZOFFSETTO:+0000
TZNAME:UTC
DTSTART:20190101T000000
END:STANDARD
END:VTIMEZONE
BEGIN:VEVENT
DTSTART;VALUE=DATE:20201007
DTEND;VALUE=DATE:20201009
DTSTAMP:20260424T030328
CREATED:20200808T025538Z
LAST-MODIFIED:20200808T025601Z
UID:402-1602028800-1602201599@www.moultriemontessori.com
SUMMARY:Early Release for Conferences
DESCRIPTION:11:45 Elementary\nToddler-Primary 12:00\nThere is NO aftercare on Early Release days.
URL:https://www.moultriemontessori.com/event/early-release-for-conferences/
END:VEVENT
BEGIN:VEVENT
DTSTART;VALUE=DATE:20201009
DTEND;VALUE=DATE:20201010
DTSTAMP:20260424T030328
CREATED:20200808T025702Z
LAST-MODIFIED:20200808T025702Z
UID:405-1602201600-1602287999@www.moultriemontessori.com
SUMMARY:Conferences - No Classes
DESCRIPTION:
URL:https://www.moultriemontessori.com/event/conferences-no-classes/
END:VEVENT
BEGIN:VEVENT
DTSTART;VALUE=DATE:20201012
DTEND;VALUE=DATE:20201013
DTSTAMP:20260424T030328
CREATED:20200808T025728Z
LAST-MODIFIED:20200808T025728Z
UID:407-1602460800-1602547199@www.moultriemontessori.com
SUMMARY:Teacher Workday
DESCRIPTION:
URL:https://www.moultriemontessori.com/event/teacher-workday/
END:VEVENT
END:VCALENDAR