BEGIN:VCALENDAR
VERSION:2.0
PRODID:-//Moultrie Montessori School | Where Children Grow - ECPv6.15.17.1//NONSGML v1.0//EN
CALSCALE:GREGORIAN
METHOD:PUBLISH
X-WR-CALNAME:Moultrie Montessori School | Where Children Grow
X-ORIGINAL-URL:https://www.moultriemontessori.com
X-WR-CALDESC:Events for Moultrie Montessori School | Where Children Grow
REFRESH-INTERVAL;VALUE=DURATION:PT1H
X-Robots-Tag:noindex
X-PUBLISHED-TTL:PT1H
BEGIN:VTIMEZONE
TZID:UTC
BEGIN:STANDARD
TZOFFSETFROM:+0000
TZOFFSETTO:+0000
TZNAME:UTC
DTSTART:20190101T000000
END:STANDARD
END:VTIMEZONE
BEGIN:VEVENT
DTSTART;VALUE=DATE:20200812
DTEND;VALUE=DATE:20200819
DTSTAMP:20260422T223232
CREATED:20200808T004307Z
LAST-MODIFIED:20200808T004307Z
UID:388-1597190400-1597795199@www.moultriemontessori.com
SUMMARY:Teacher Pre-planning
DESCRIPTION:
URL:https://www.moultriemontessori.com/event/teacher-pre-planning/
END:VEVENT
BEGIN:VEVENT
DTSTART;TZID=UTC:20200808T080000
DTEND;TZID=UTC:20200808T170000
DTSTAMP:20260422T223232
CREATED:20200808T030741Z
LAST-MODIFIED:20200808T030741Z
UID:427-1596873600-1596906000@www.moultriemontessori.com
SUMMARY:Early Release
DESCRIPTION:11:45 Elementary\n12:00 Toddler-Primary\nThere is NO Aftercare on Early Release days.
URL:https://www.moultriemontessori.com/event/early-release-5/
END:VEVENT
END:VCALENDAR