BEGIN:VCALENDAR
VERSION:2.0
PRODID:-//Moultrie Montessori School | Where Children Grow - ECPv6.15.17.1//NONSGML v1.0//EN
CALSCALE:GREGORIAN
METHOD:PUBLISH
X-ORIGINAL-URL:https://www.moultriemontessori.com
X-WR-CALDESC:Events for Moultrie Montessori School | Where Children Grow
REFRESH-INTERVAL;VALUE=DURATION:PT1H
X-Robots-Tag:noindex
X-PUBLISHED-TTL:PT1H
BEGIN:VTIMEZONE
TZID:UTC
BEGIN:STANDARD
TZOFFSETFROM:+0000
TZOFFSETTO:+0000
TZNAME:UTC
DTSTART:20230101T000000
END:STANDARD
END:VTIMEZONE
BEGIN:VEVENT
DTSTART;VALUE=DATE:20240115
DTEND;VALUE=DATE:20240116
DTSTAMP:20260419T174844
CREATED:20230710T211309Z
LAST-MODIFIED:20230710T211309Z
UID:758-1705276800-1705363199@www.moultriemontessori.com
SUMMARY:Dr. Martin Luther King\, Jr. Day - NO SCHOOL
DESCRIPTION:
URL:https://www.moultriemontessori.com/event/dr-martin-luther-king-jr-day-no-school/
END:VEVENT
BEGIN:VEVENT
DTSTART;VALUE=DATE:20240216
DTEND;VALUE=DATE:20240217
DTSTAMP:20260419T174844
CREATED:20230710T211337Z
LAST-MODIFIED:20230710T211337Z
UID:760-1708041600-1708127999@www.moultriemontessori.com
SUMMARY:Early Release
DESCRIPTION:
URL:https://www.moultriemontessori.com/event/early-release-30/
END:VEVENT
BEGIN:VEVENT
DTSTART;VALUE=DATE:20240219
DTEND;VALUE=DATE:20240220
DTSTAMP:20260419T174844
CREATED:20230710T211410Z
LAST-MODIFIED:20230710T211410Z
UID:762-1708300800-1708387199@www.moultriemontessori.com
SUMMARY:President's Day - NO SCHOOL
DESCRIPTION:
URL:https://www.moultriemontessori.com/event/presidents-day-no-school/
END:VEVENT
BEGIN:VEVENT
DTSTART;VALUE=DATE:20240308
DTEND;VALUE=DATE:20240309
DTSTAMP:20260419T174844
CREATED:20230710T211436Z
LAST-MODIFIED:20230710T211436Z
UID:764-1709856000-1709942399@www.moultriemontessori.com
SUMMARY:Early Release
DESCRIPTION:
URL:https://www.moultriemontessori.com/event/early-release-31/
END:VEVENT
BEGIN:VEVENT
DTSTART;VALUE=DATE:20240311
DTEND;VALUE=DATE:20240316
DTSTAMP:20260419T174844
CREATED:20230710T211508Z
LAST-MODIFIED:20230710T211508Z
UID:766-1710115200-1710547199@www.moultriemontessori.com
SUMMARY:Spring Break
DESCRIPTION:
URL:https://www.moultriemontessori.com/event/spring-break-2/
END:VEVENT
BEGIN:VEVENT
DTSTART;VALUE=DATE:20240318
DTEND;VALUE=DATE:20240319
DTSTAMP:20260419T174844
CREATED:20230710T211538Z
LAST-MODIFIED:20230710T211538Z
UID:768-1710720000-1710806399@www.moultriemontessori.com
SUMMARY:Teacher Work Day - NO SCHOOL
DESCRIPTION:
URL:https://www.moultriemontessori.com/event/teacher-work-day-no-school/
END:VEVENT
BEGIN:VEVENT
DTSTART;VALUE=DATE:20240328
DTEND;VALUE=DATE:20240329
DTSTAMP:20260419T174844
CREATED:20230710T211612Z
LAST-MODIFIED:20230710T211612Z
UID:770-1711584000-1711670399@www.moultriemontessori.com
SUMMARY:Early Release
DESCRIPTION:
URL:https://www.moultriemontessori.com/event/early-release-32/
END:VEVENT
BEGIN:VEVENT
DTSTART;VALUE=DATE:20240329
DTEND;VALUE=DATE:20240330
DTSTAMP:20260419T174844
CREATED:20230710T211706Z
LAST-MODIFIED:20230710T211706Z
UID:772-1711670400-1711756799@www.moultriemontessori.com
SUMMARY:Holiday - NO SCHOOL
DESCRIPTION:
URL:https://www.moultriemontessori.com/event/holiday-no-school/
END:VEVENT
BEGIN:VEVENT
DTSTART;VALUE=DATE:20240418
DTEND;VALUE=DATE:20240419
DTSTAMP:20260419T174844
CREATED:20230710T211800Z
LAST-MODIFIED:20230710T211800Z
UID:774-1713398400-1713484799@www.moultriemontessori.com
SUMMARY:Early Release
DESCRIPTION:
URL:https://www.moultriemontessori.com/event/early-release-33/
END:VEVENT
BEGIN:VEVENT
DTSTART;VALUE=DATE:20240419
DTEND;VALUE=DATE:20240420
DTSTAMP:20260419T174844
CREATED:20230710T211844Z
LAST-MODIFIED:20230710T211844Z
UID:776-1713484800-1713571199@www.moultriemontessori.com
SUMMARY:Holiday - NO SCHOOL
DESCRIPTION:
URL:https://www.moultriemontessori.com/event/holiday-no-school-2/
END:VEVENT
BEGIN:VEVENT
DTSTART;VALUE=DATE:20240522
DTEND;VALUE=DATE:20240525
DTSTAMP:20260419T174844
CREATED:20230710T211918Z
LAST-MODIFIED:20230710T211918Z
UID:778-1716336000-1716595199@www.moultriemontessori.com
SUMMARY:Early Release
DESCRIPTION:
URL:https://www.moultriemontessori.com/event/early-release-34/
END:VEVENT
BEGIN:VEVENT
DTSTART;VALUE=DATE:20240524
DTEND;VALUE=DATE:20240525
DTSTAMP:20260419T174844
CREATED:20230710T211940Z
LAST-MODIFIED:20230710T211940Z
UID:780-1716508800-1716595199@www.moultriemontessori.com
SUMMARY:Last Day
DESCRIPTION:
URL:https://www.moultriemontessori.com/event/last-day/
END:VEVENT
END:VCALENDAR