BEGIN:VCALENDAR
VERSION:2.0
PRODID:-//Moultrie Montessori School | Where Children Grow - ECPv6.15.17.1//NONSGML v1.0//EN
CALSCALE:GREGORIAN
METHOD:PUBLISH
X-WR-CALNAME:Moultrie Montessori School | Where Children Grow
X-ORIGINAL-URL:https://www.moultriemontessori.com
X-WR-CALDESC:Events for Moultrie Montessori School | Where Children Grow
REFRESH-INTERVAL;VALUE=DURATION:PT1H
X-Robots-Tag:noindex
X-PUBLISHED-TTL:PT1H
BEGIN:VTIMEZONE
TZID:UTC
BEGIN:STANDARD
TZOFFSETFROM:+0000
TZOFFSETTO:+0000
TZNAME:UTC
DTSTART:20190101T000000
END:STANDARD
END:VTIMEZONE
BEGIN:VEVENT
DTSTART;VALUE=DATE:20211124
DTEND;VALUE=DATE:20211127
DTSTAMP:20260419T174418
CREATED:20210726T191203Z
LAST-MODIFIED:20210726T191203Z
UID:525-1637712000-1637971199@www.moultriemontessori.com
SUMMARY:Thanksgiving Holiday
DESCRIPTION:No School
URL:https://www.moultriemontessori.com/event/thanksgiving-holiday/
END:VEVENT
BEGIN:VEVENT
DTSTART;VALUE=DATE:20211123
DTEND;VALUE=DATE:20211124
DTSTAMP:20260419T174418
CREATED:20210726T191132Z
LAST-MODIFIED:20210726T191132Z
UID:523-1637625600-1637711999@www.moultriemontessori.com
SUMMARY:Early Release
DESCRIPTION:Thanksgiving Holiday\n11:45 Elementary and Toddler\n12:00 Primary
URL:https://www.moultriemontessori.com/event/early-release-12/
END:VEVENT
BEGIN:VEVENT
DTSTART;VALUE=DATE:20211018
DTEND;VALUE=DATE:20211019
DTSTAMP:20260419T174418
CREATED:20210726T191026Z
LAST-MODIFIED:20210726T191026Z
UID:521-1634515200-1634601599@www.moultriemontessori.com
SUMMARY:Teacher Work Day
DESCRIPTION:No School
URL:https://www.moultriemontessori.com/event/teacher-work-day/
END:VEVENT
BEGIN:VEVENT
DTSTART;VALUE=DATE:20211015
DTEND;VALUE=DATE:20211016
DTSTAMP:20260419T174418
CREATED:20210726T190954Z
LAST-MODIFIED:20210726T190954Z
UID:519-1634256000-1634342399@www.moultriemontessori.com
SUMMARY:Parent-Teacher Conferences
DESCRIPTION:No School
URL:https://www.moultriemontessori.com/event/parent-teacher-conferences/
END:VEVENT
BEGIN:VEVENT
DTSTART;VALUE=DATE:20211012
DTEND;VALUE=DATE:20211015
DTSTAMP:20260419T174418
CREATED:20210726T190923Z
LAST-MODIFIED:20210726T190923Z
UID:517-1633996800-1634255999@www.moultriemontessori.com
SUMMARY:Early Release
DESCRIPTION:Parent-Teacher Conferences\n11:45 Elementary and Toddler\n12:00 Primary
URL:https://www.moultriemontessori.com/event/early-release-11/
END:VEVENT
BEGIN:VEVENT
DTSTART;VALUE=DATE:20210903
DTEND;VALUE=DATE:20210907
DTSTAMP:20260419T174418
CREATED:20210726T190817Z
LAST-MODIFIED:20210726T190817Z
UID:515-1630627200-1630972799@www.moultriemontessori.com
SUMMARY:Labor Day Holiday
DESCRIPTION:School Closed
URL:https://www.moultriemontessori.com/event/labor-day-holiday/
END:VEVENT
BEGIN:VEVENT
DTSTART;VALUE=DATE:20210902
DTEND;VALUE=DATE:20210903
DTSTAMP:20260419T174418
CREATED:20210726T190727Z
LAST-MODIFIED:20210726T190727Z
UID:513-1630540800-1630627199@www.moultriemontessori.com
SUMMARY:Early Release
DESCRIPTION:Labor Day Holiday\n11:45 Elementary and Toddler\n12:00 Primary
URL:https://www.moultriemontessori.com/event/early-release-10/
END:VEVENT
BEGIN:VEVENT
DTSTART;TZID=UTC:20210817T083000
DTEND;TZID=UTC:20210817T143000
DTSTAMP:20260419T174418
CREATED:20210726T190550Z
LAST-MODIFIED:20210726T190550Z
UID:511-1629189000-1629210600@www.moultriemontessori.com
SUMMARY:Staggered Start
DESCRIPTION:All students attend.
URL:https://www.moultriemontessori.com/event/staggered-start-5/
END:VEVENT
BEGIN:VEVENT
DTSTART;TZID=UTC:20210813T083000
DTEND;TZID=UTC:20210813T143000
DTSTAMP:20260419T174418
CREATED:20210726T190509Z
LAST-MODIFIED:20210726T190509Z
UID:509-1628843400-1628865000@www.moultriemontessori.com
SUMMARY:Staggered Start
DESCRIPTION:Friday\, August 13\, Toddlers\, 5-year olds\, and 3rd-5th grade only
URL:https://www.moultriemontessori.com/event/staggered-start-4/
END:VEVENT
BEGIN:VEVENT
DTSTART;TZID=UTC:20210812T083000
DTEND;TZID=UTC:20210812T143000
DTSTAMP:20260419T174418
CREATED:20210726T190430Z
LAST-MODIFIED:20210726T190430Z
UID:507-1628757000-1628778600@www.moultriemontessori.com
SUMMARY:Staggered Start
DESCRIPTION:Thursday\, August 12\, Toddlers\, 4-year olds\, & 2nd grade only
URL:https://www.moultriemontessori.com/event/staggered-start-3/
END:VEVENT
BEGIN:VEVENT
DTSTART;TZID=UTC:20210811T080000
DTEND;TZID=UTC:20210811T143000
DTSTAMP:20260419T174418
CREATED:20210726T190325Z
LAST-MODIFIED:20210726T190325Z
UID:505-1628668800-1628692200@www.moultriemontessori.com
SUMMARY:Staggered Start
DESCRIPTION:Toddlers\, 3-year olds\, & 1st grade only
URL:https://www.moultriemontessori.com/event/staggered-start-2/
END:VEVENT
BEGIN:VEVENT
DTSTART;VALUE=DATE:20210804
DTEND;VALUE=DATE:20210811
DTSTAMP:20260419T174418
CREATED:20210726T190003Z
LAST-MODIFIED:20210726T190003Z
UID:503-1628035200-1628639999@www.moultriemontessori.com
SUMMARY:Teacher Pre-Planning
DESCRIPTION:
URL:https://www.moultriemontessori.com/event/teacher-pre-planning-2/
END:VEVENT
BEGIN:VEVENT
DTSTART;VALUE=DATE:20210602
DTEND;VALUE=DATE:20210603
DTSTAMP:20260419T174418
CREATED:20200808T032334Z
LAST-MODIFIED:20200808T032334Z
UID:451-1622592000-1622678399@www.moultriemontessori.com
SUMMARY:Early Release - Last Day for Students
DESCRIPTION:11:45 Elementary\n12:00 Toddler-Primary\nThere is NO Aftercare on Early Release days.
URL:https://www.moultriemontessori.com/event/early-release-last-day-for-students/
END:VEVENT
BEGIN:VEVENT
DTSTART;VALUE=DATE:20210601
DTEND;VALUE=DATE:20210602
DTSTAMP:20260419T174418
CREATED:20200808T032212Z
LAST-MODIFIED:20200808T032212Z
UID:449-1622505600-1622591999@www.moultriemontessori.com
SUMMARY:Early Release
DESCRIPTION:11:45 Elementary\n12:00 Toddler-Primary
URL:https://www.moultriemontessori.com/event/early-release-9/
END:VEVENT
BEGIN:VEVENT
DTSTART;VALUE=DATE:20210531
DTEND;VALUE=DATE:20210601
DTSTAMP:20260419T174418
CREATED:20200808T032041Z
LAST-MODIFIED:20200808T032041Z
UID:447-1622419200-1622505599@www.moultriemontessori.com
SUMMARY:No School - Memorial Day Holiday
DESCRIPTION:
URL:https://www.moultriemontessori.com/event/no-school-memorial-day-holiday/
END:VEVENT
BEGIN:VEVENT
DTSTART;VALUE=DATE:20210528
DTEND;VALUE=DATE:20210529
DTSTAMP:20260419T174418
CREATED:20200808T031945Z
LAST-MODIFIED:20200808T031945Z
UID:445-1622160000-1622246399@www.moultriemontessori.com
SUMMARY:Early Release
DESCRIPTION:11:45 Elementary\n12:00 Toddler-Primary\nThere is NO Aftercare on Early Release Days
URL:https://www.moultriemontessori.com/event/early-release-8/
END:VEVENT
BEGIN:VEVENT
DTSTART;VALUE=DATE:20210402
DTEND;VALUE=DATE:20210406
DTSTAMP:20260419T174418
CREATED:20200808T031833Z
LAST-MODIFIED:20200808T031833Z
UID:443-1617321600-1617667199@www.moultriemontessori.com
SUMMARY:No School
DESCRIPTION:
URL:https://www.moultriemontessori.com/event/no-school-4/
END:VEVENT
BEGIN:VEVENT
DTSTART;VALUE=DATE:20210401
DTEND;VALUE=DATE:20210402
DTSTAMP:20260419T174418
CREATED:20200808T031753Z
LAST-MODIFIED:20200808T031753Z
UID:441-1617235200-1617321599@www.moultriemontessori.com
SUMMARY:Early Release
DESCRIPTION:
URL:https://www.moultriemontessori.com/event/early-release-7/
END:VEVENT
BEGIN:VEVENT
DTSTART;VALUE=DATE:20210323
DTEND;VALUE=DATE:20210324
DTSTAMP:20260419T174418
CREATED:20200808T031121Z
LAST-MODIFIED:20200808T031121Z
UID:439-1616457600-1616543999@www.moultriemontessori.com
SUMMARY:Classes Resume
DESCRIPTION:
URL:https://www.moultriemontessori.com/event/classes-resume-2/
END:VEVENT
BEGIN:VEVENT
DTSTART;VALUE=DATE:20210322
DTEND;VALUE=DATE:20210323
DTSTAMP:20260419T174418
CREATED:20200808T031050Z
LAST-MODIFIED:20200808T031050Z
UID:437-1616371200-1616457599@www.moultriemontessori.com
SUMMARY:Teacher Workday
DESCRIPTION:
URL:https://www.moultriemontessori.com/event/teacher-workday-3/
END:VEVENT
BEGIN:VEVENT
DTSTART;VALUE=DATE:20210315
DTEND;VALUE=DATE:20210320
DTSTAMP:20260419T174418
CREATED:20200808T031008Z
LAST-MODIFIED:20200808T031008Z
UID:435-1615766400-1616198399@www.moultriemontessori.com
SUMMARY:Spring Break - No School
DESCRIPTION:
URL:https://www.moultriemontessori.com/event/spring-break-no-school/
END:VEVENT
BEGIN:VEVENT
DTSTART;VALUE=DATE:20210312
DTEND;VALUE=DATE:20210313
DTSTAMP:20260419T174418
CREATED:20200808T030920Z
LAST-MODIFIED:20200808T030920Z
UID:433-1615507200-1615593599@www.moultriemontessori.com
SUMMARY:Early Release
DESCRIPTION:
URL:https://www.moultriemontessori.com/event/early-release-6/
END:VEVENT
BEGIN:VEVENT
DTSTART;VALUE=DATE:20210215
DTEND;VALUE=DATE:20210216
DTSTAMP:20260419T174418
CREATED:20200808T030857Z
LAST-MODIFIED:20200808T030857Z
UID:431-1613347200-1613433599@www.moultriemontessori.com
SUMMARY:No School - Presidents Day
DESCRIPTION:
URL:https://www.moultriemontessori.com/event/no-school-presidents-day/
END:VEVENT
BEGIN:VEVENT
DTSTART;VALUE=DATE:20210212
DTEND;VALUE=DATE:20210213
DTSTAMP:20260419T174418
CREATED:20200808T030826Z
LAST-MODIFIED:20200808T030826Z
UID:429-1613088000-1613174399@www.moultriemontessori.com
SUMMARY:No School
DESCRIPTION:
URL:https://www.moultriemontessori.com/event/no-school-3/
END:VEVENT
BEGIN:VEVENT
DTSTART;VALUE=DATE:20210118
DTEND;VALUE=DATE:20210119
DTSTAMP:20260419T174418
CREATED:20200808T030633Z
LAST-MODIFIED:20200808T030633Z
UID:425-1610928000-1611014399@www.moultriemontessori.com
SUMMARY:No School - Martin Luther King Day
DESCRIPTION:
URL:https://www.moultriemontessori.com/event/no-school-martin-luther-king-day/
END:VEVENT
BEGIN:VEVENT
DTSTART;VALUE=DATE:20210115
DTEND;VALUE=DATE:20210116
DTSTAMP:20260419T174418
CREATED:20200808T030552Z
LAST-MODIFIED:20200808T030552Z
UID:423-1610668800-1610755199@www.moultriemontessori.com
SUMMARY:No School
DESCRIPTION:
URL:https://www.moultriemontessori.com/event/no-school-2/
END:VEVENT
BEGIN:VEVENT
DTSTART;VALUE=DATE:20210114
DTEND;VALUE=DATE:20210115
DTSTAMP:20260419T174418
CREATED:20200808T030457Z
LAST-MODIFIED:20200808T030457Z
UID:421-1610582400-1610668799@www.moultriemontessori.com
SUMMARY:Early Release
DESCRIPTION:11:45 Elementary\nToddler-Primary 12:00\nThere is NO aftercare on Early Release days
URL:https://www.moultriemontessori.com/event/early-release-4/
END:VEVENT
BEGIN:VEVENT
DTSTART;VALUE=DATE:20210105
DTEND;VALUE=DATE:20210106
DTSTAMP:20260419T174418
CREATED:20200808T030214Z
LAST-MODIFIED:20200808T030214Z
UID:419-1609804800-1609891199@www.moultriemontessori.com
SUMMARY:Classes Resume
DESCRIPTION:
URL:https://www.moultriemontessori.com/event/classes-resume/
END:VEVENT
BEGIN:VEVENT
DTSTART;VALUE=DATE:20210104
DTEND;VALUE=DATE:20210105
DTSTAMP:20260419T174418
CREATED:20200808T030136Z
LAST-MODIFIED:20200808T030136Z
UID:417-1609718400-1609804799@www.moultriemontessori.com
SUMMARY:Teacher Workday
DESCRIPTION:
URL:https://www.moultriemontessori.com/event/teacher-workday-2/
END:VEVENT
BEGIN:VEVENT
DTSTART;VALUE=DATE:20201221
DTEND;VALUE=DATE:20210105
DTSTAMP:20260419T174418
CREATED:20200808T030050Z
LAST-MODIFIED:20200808T030050Z
UID:415-1608508800-1609804799@www.moultriemontessori.com
SUMMARY:Winter Holiday
DESCRIPTION:
URL:https://www.moultriemontessori.com/event/winter-holiday/
END:VEVENT
END:VCALENDAR