BEGIN:VCALENDAR
VERSION:2.0
PRODID:-//Moultrie Montessori School | Where Children Grow - ECPv6.15.17.1//NONSGML v1.0//EN
CALSCALE:GREGORIAN
METHOD:PUBLISH
X-ORIGINAL-URL:https://www.moultriemontessori.com
X-WR-CALDESC:Events for Moultrie Montessori School | Where Children Grow
REFRESH-INTERVAL;VALUE=DURATION:PT1H
X-Robots-Tag:noindex
X-PUBLISHED-TTL:PT1H
BEGIN:VTIMEZONE
TZID:UTC
BEGIN:STANDARD
TZOFFSETFROM:+0000
TZOFFSETTO:+0000
TZNAME:UTC
DTSTART:20230101T000000
END:STANDARD
END:VTIMEZONE
BEGIN:VEVENT
DTSTART;VALUE=DATE:20240104
DTEND;VALUE=DATE:20240105
DTSTAMP:20260422T023432
CREATED:20230710T211055Z
LAST-MODIFIED:20230710T212656Z
UID:750-1704326400-1704412799@www.moultriemontessori.com
SUMMARY:Teacher Work Day
DESCRIPTION:
URL:https://www.moultriemontessori.com/event/teacher-work-day-5/
END:VEVENT
END:VCALENDAR