BEGIN:VCALENDAR
VERSION:2.0
PRODID:-//Moultrie Montessori School | Where Children Grow - ECPv6.15.17.1//NONSGML v1.0//EN
CALSCALE:GREGORIAN
METHOD:PUBLISH
X-ORIGINAL-URL:https://www.moultriemontessori.com
X-WR-CALDESC:Events for Moultrie Montessori School | Where Children Grow
REFRESH-INTERVAL;VALUE=DURATION:PT1H
X-Robots-Tag:noindex
X-PUBLISHED-TTL:PT1H
BEGIN:VTIMEZONE
TZID:UTC
BEGIN:STANDARD
TZOFFSETFROM:+0000
TZOFFSETTO:+0000
TZNAME:UTC
DTSTART:20210101T000000
END:STANDARD
END:VTIMEZONE
BEGIN:VEVENT
DTSTART;VALUE=DATE:20220105
DTEND;VALUE=DATE:20220106
DTSTAMP:20260422T223442
CREATED:20210726T191420Z
LAST-MODIFIED:20210726T191420Z
UID:533-1641340800-1641427199@www.moultriemontessori.com
SUMMARY:Classes Resume
DESCRIPTION:
URL:https://www.moultriemontessori.com/event/classes-resume-3/
END:VEVENT
END:VCALENDAR