BEGIN:VCALENDAR
VERSION:2.0
PRODID:-//Moultrie Montessori School | Where Children Grow - ECPv6.15.17.1//NONSGML v1.0//EN
CALSCALE:GREGORIAN
METHOD:PUBLISH
X-ORIGINAL-URL:https://www.moultriemontessori.com
X-WR-CALDESC:Events for Moultrie Montessori School | Where Children Grow
REFRESH-INTERVAL;VALUE=DURATION:PT1H
X-Robots-Tag:noindex
X-PUBLISHED-TTL:PT1H
BEGIN:VTIMEZONE
TZID:UTC
BEGIN:STANDARD
TZOFFSETFROM:+0000
TZOFFSETTO:+0000
TZNAME:UTC
DTSTART:20200101T000000
END:STANDARD
END:VTIMEZONE
BEGIN:VEVENT
DTSTART;TZID=UTC:20210812T083000
DTEND;TZID=UTC:20210812T143000
DTSTAMP:20260423T045459
CREATED:20210726T190430Z
LAST-MODIFIED:20210726T190430Z
UID:507-1628757000-1628778600@www.moultriemontessori.com
SUMMARY:Staggered Start
DESCRIPTION:Thursday\, August 12\, Toddlers\, 4-year olds\, & 2nd grade only
URL:https://www.moultriemontessori.com/event/staggered-start-3/
END:VEVENT
END:VCALENDAR