BEGIN:VCALENDAR
VERSION:2.0
PRODID:-//Moultrie Montessori School | Where Children Grow - ECPv6.15.17.1//NONSGML v1.0//EN
CALSCALE:GREGORIAN
METHOD:PUBLISH
X-ORIGINAL-URL:https://www.moultriemontessori.com
X-WR-CALDESC:Events for Moultrie Montessori School | Where Children Grow
REFRESH-INTERVAL;VALUE=DURATION:PT1H
X-Robots-Tag:noindex
X-PUBLISHED-TTL:PT1H
BEGIN:VTIMEZONE
TZID:UTC
BEGIN:STANDARD
TZOFFSETFROM:+0000
TZOFFSETTO:+0000
TZNAME:UTC
DTSTART:20200101T000000
END:STANDARD
END:VTIMEZONE
BEGIN:VEVENT
DTSTART;VALUE=DATE:20210804
DTEND;VALUE=DATE:20210811
DTSTAMP:20260423T020436
CREATED:20210726T190003Z
LAST-MODIFIED:20210726T190003Z
UID:503-1628035200-1628639999@www.moultriemontessori.com
SUMMARY:Teacher Pre-Planning
DESCRIPTION:
URL:https://www.moultriemontessori.com/event/teacher-pre-planning-2/
END:VEVENT
END:VCALENDAR